BEGIN:VCALENDAR
VERSION:2.0
PRODID:-//147.100.242.15//NONSGML kigkonsult.se iCalcreator 2.41.92//
CALSCALE:GREGORIAN
UID:33636163-3035-4833-b634-323266373163
X-WR-TIMEZONE:Europe/Paris
BEGIN:VTIMEZONE
TZID:Europe/Paris
TZUNTIL:20281029T010000Z
BEGIN:STANDARD
TZNAME:CET
DTSTART:20251026T030000
TZOFFSETFROM:+0200
TZOFFSETTO:+0100
RDATE:20261025T030000
RDATE:20271031T030000
END:STANDARD
BEGIN:DAYLIGHT
TZNAME:CEST
DTSTART:20260329T020000
TZOFFSETFROM:+0100
TZOFFSETTO:+0200
RDATE:20270328T020000
RDATE:20280326T020000
END:DAYLIGHT
END:VTIMEZONE
BEGIN:VEVENT
UID:36376535-6635-4632-a231-633737303162
DTSTAMP:20260425T235611Z
DTSTART:20261007T060000Z
DTEND:20261009T180000Z
LOCATION:Paris-Saclay University
SUMMARY:Mix4Agroecology
URL:https://mix4agroecology.colloque.inrae.fr
END:VEVENT
END:VCALENDAR
